
BEGIN:VCALENDAR
VERSION:2.0
PRODID:-//eventon.com NONSGML v1.0//EN
BEGIN:VEVENT
UID:69e5e7f6166c4
DTSTAMP:20260420T104646
DTSTART:20200819
DTEND:20200820
TZID:UTC
LOCATION:
SUMMARY:Eric
DESCRIPTION: Eric\nhttps://art-rythme-ethique.fr/events/eric/
URL:https://art-rythme-ethique.fr/events/eric/
END:VEVENT
END:VCALENDAR